BEGIN:VCALENDAR
VERSION:2.0
PRODID:-//Bramhall United Reformed Church - ECPv6.15.20//NONSGML v1.0//EN
CALSCALE:GREGORIAN
METHOD:PUBLISH
X-WR-CALNAME:Bramhall United Reformed Church
X-ORIGINAL-URL:https://bramhallurc.org.uk
X-WR-CALDESC:Events for Bramhall United Reformed Church
REFRESH-INTERVAL;VALUE=DURATION:PT1H
X-Robots-Tag:noindex
X-PUBLISHED-TTL:PT1H
BEGIN:VTIMEZONE
TZID:Europe/London
BEGIN:DAYLIGHT
TZOFFSETFROM:+0000
TZOFFSETTO:+0100
TZNAME:BST
DTSTART:20230326T010000
END:DAYLIGHT
BEGIN:STANDARD
TZOFFSETFROM:+0100
TZOFFSETTO:+0000
TZNAME:GMT
DTSTART:20231029T010000
END:STANDARD
BEGIN:DAYLIGHT
TZOFFSETFROM:+0000
TZOFFSETTO:+0100
TZNAME:BST
DTSTART:20240331T010000
END:DAYLIGHT
BEGIN:STANDARD
TZOFFSETFROM:+0100
TZOFFSETTO:+0000
TZNAME:GMT
DTSTART:20241027T010000
END:STANDARD
BEGIN:DAYLIGHT
TZOFFSETFROM:+0000
TZOFFSETTO:+0100
TZNAME:BST
DTSTART:20250330T010000
END:DAYLIGHT
BEGIN:STANDARD
TZOFFSETFROM:+0100
TZOFFSETTO:+0000
TZNAME:GMT
DTSTART:20251026T010000
END:STANDARD
END:VTIMEZONE
BEGIN:VEVENT
DTSTART;TZID=Europe/London:20241130T110000
DTEND;TZID=Europe/London:20241130T140000
DTSTAMP:20260421T174840
CREATED:20211024T193712Z
LAST-MODIFIED:20241022T091611Z
UID:6268-1732964400-1732975200@bramhallurc.org.uk
SUMMARY:Christmas Fair
DESCRIPTION:Join us for our Christmas Fair. We’ll have Tea\, Coffee and light lunch options\, Toasted sandwiches or soup with bread. \nOur Stalls will include\, a tombola\, exciting competitions\, Homemade Cakes\, Handknitted items by our Knit and Knatter group and handmade cards. \nProceeds this year will be going to Home Start. \n.
URL:https://bramhallurc.org.uk/event/mini-christmas-fair/
LOCATION:United Reformed Church Bramhall\, Robins Lane\, SK7 2PE
CATEGORIES:Community Events
END:VEVENT
END:VCALENDAR